BEGIN:VCALENDAR
VERSION:2.0
PRODID:-//Rotary International Felllowship - ECPv6.11.2.1//NONSGML v1.0//EN
CALSCALE:GREGORIAN
METHOD:PUBLISH
X-WR-CALNAME:Rotary International Felllowship
X-ORIGINAL-URL:https://www.rotary-old-books.org
X-WR-CALDESC:Eventi per Rotary International Felllowship
REFRESH-INTERVAL;VALUE=DURATION:PT1H
X-Robots-Tag:noindex
X-PUBLISHED-TTL:PT1H
BEGIN:VTIMEZONE
TZID:Europe/Paris
BEGIN:DAYLIGHT
TZOFFSETFROM:+0100
TZOFFSETTO:+0200
TZNAME:CEST
DTSTART:20200329T010000
END:DAYLIGHT
BEGIN:STANDARD
TZOFFSETFROM:+0200
TZOFFSETTO:+0100
TZNAME:CET
DTSTART:20201025T010000
END:STANDARD
BEGIN:DAYLIGHT
TZOFFSETFROM:+0100
TZOFFSETTO:+0200
TZNAME:CEST
DTSTART:20210328T010000
END:DAYLIGHT
BEGIN:STANDARD
TZOFFSETFROM:+0200
TZOFFSETTO:+0100
TZNAME:CET
DTSTART:20211031T010000
END:STANDARD
BEGIN:DAYLIGHT
TZOFFSETFROM:+0100
TZOFFSETTO:+0200
TZNAME:CEST
DTSTART:20220327T010000
END:DAYLIGHT
BEGIN:STANDARD
TZOFFSETFROM:+0200
TZOFFSETTO:+0100
TZNAME:CET
DTSTART:20221030T010000
END:STANDARD
END:VTIMEZONE
BEGIN:VEVENT
DTSTART;TZID=Europe/Paris:20220711T080000
DTEND;TZID=Europe/Paris:20220731T170000
DTSTAMP:20260421T194807
CREATED:20220713T154803Z
LAST-MODIFIED:20220713T154820Z
UID:3249-1657526400-1659286800@www.rotary-old-books.org
SUMMARY:Mostra "Pesci\, conchiglie\, fossili" 11-31 Luglio 2022
DESCRIPTION:Dopo l’avvio più che positivo della mostra tenutasi a Orbetello\, si replica presso il Museo dell’Accademia dei Fisiocritici a Siena\, con l’esposizione di soli libri quasi tutti rivenienti dal fondo antico della Biblioteca dell’Accademia. Faranno da contorno alcune edizioni cinquecentine dell’opera principe di Pietro Andrea Mattioli\, scienziato senese del XVI secolo\, prestate dai soci della Bibliografica e della Fellowship e le creazioni ultramoderne di Sara Lovari. Un’ulteriore tassello della collaborazione che ormai si protrae da tempo con la storica Accademia scientifica senese.
URL:https://www.rotary-old-books.org/event/mostra-pesci-conchiglie-fossili-11-31-luglio-2022/
CATEGORIES:Event,Home
ATTACH;FMTTYPE=image/jpeg:https://www.rotary-old-books.org/wp-content/uploads/2022/07/292132550_5215055451908692_6465169565920908899_n.jpeg
END:VEVENT
BEGIN:VEVENT
DTSTART;TZID=Europe/Paris:20220528T173000
DTEND;TZID=Europe/Paris:20220528T193000
DTSTAMP:20260421T194807
CREATED:20220426T081315Z
LAST-MODIFIED:20220428T094943Z
UID:3220-1653759000-1653766200@www.rotary-old-books.org
SUMMARY:Rotary per la Crusca - Le librerie scomparse
DESCRIPTION:Il 28 maggio 2022\, presso la suggestiva sede dell’Accademia della Crusca\, Villa Medicea di Castello\, si terrà la presentazione del volume Le librerie scomparse – Cronache degli ultimi cinquant’anni delle librerie antiquarie fiorentine a cura di Giovanni Cipriani e Paolo Tiezzi Maestri. \nL’evento è promosso dalla Regione Toscana\, dal Comune di Firenze\, dalla Società Bibliografica Toscana\, dall’Accademia della Crusca\, dagli Amici dell’Accademia della Crusca\, dall’Associazione Librai Antiquari\, dal Rotary Distretto 2071 e della Rotary Fellowship Old and Rare Antique Books. Hanno collaborato numerose librerie antiquarie Toscane. \nScarica la locandina dell’evento
URL:https://www.rotary-old-books.org/event/rotary-per-la-crusca-le-librerie-scomparse/
LOCATION:Accademia della Crusca – Villa Medicea di Castello\, Via di Castello\, 44\, Firenze\, FI\, 50141\, Italia
CATEGORIES:Event,Home
ATTACH;FMTTYPE=image/jpeg:https://www.rotary-old-books.org/wp-content/uploads/2022/04/2.3-copia.jpeg
END:VEVENT
BEGIN:VEVENT
DTSTART;TZID=Europe/Paris:20220506T173000
DTEND;TZID=Europe/Paris:20220523T193000
DTSTAMP:20260421T194807
CREATED:20220426T075357Z
LAST-MODIFIED:20220713T154846Z
UID:3210-1651858200-1653334200@www.rotary-old-books.org
SUMMARY:Pesci\, conchiglie\, fossili
DESCRIPTION:Venerdì 6 maggio 2022 presso la Polveriera Guzman di Orbetello (ore 18) sarà inaugurata Pesci\, Conghiglie\, Fossili\, una mostra d’arte collettiva dedicata ai pesci e alle conchiglie d’Italia. Le grafiche a tema esposte sono state realizzate da vari artisti esclusivamente su invito. Le opere saranno affiancate da un’esposizione di libri antichi contenenti incisioni dedicate allo stesso tema. \nAll’inaugurazione saranno presenti il sindaco di Orbetello\, Andrea Casamenti insieme a Fernando Damiani (Governatore Distretto 2071 Rotary International)\, Gian Franco Francia (Presidente Rotary Club Orbetello Costa d’Argento)\, Marcello Pancrazi (Presidente Rotary Club Grosseto)\, Marcello Cherubini (Presidente Rotary Club Pitigliano Sorano Manciano)\, Andrea Rustici (Presidente Rotary Club Argentario)\, Pietro Terrosi Vagnoli (Rotary Fellowship Old and Rare Antique Books) e Fausto Rossi (Società Bibliografica Toscana). \nIntroducono l’iniziativa Fabio Bargigli e Paolo Tiezzi Maestri. \nLa mostra è stata realizzata con il contributo del Comune di Orbetello\, della Società Bibliografica Toscana\, del Rotary Distretto 2071 e della Rotary Fellowship Old and Rare Antique Books. \nScarica la locandina dell’evento
URL:https://www.rotary-old-books.org/event/pesci-conchiglie-fossili/
LOCATION:Polveriera Guzman\, Orbetello\, GR\, 58015\, Italia
CATEGORIES:Event,Home
ATTACH;FMTTYPE=image/jpeg:https://www.rotary-old-books.org/wp-content/uploads/2022/04/2.2-2-copia.jpeg
END:VEVENT
BEGIN:VEVENT
DTSTART;VALUE=DATE:20210821
DTEND;VALUE=DATE:20210906
DTSTAMP:20260421T194807
CREATED:20210825T134523Z
LAST-MODIFIED:20211116T101206Z
UID:3057-1629504000-1630886399@www.rotary-old-books.org
SUMMARY:Mostra "Dantisti del '500 nel Castello dei Conti Guidi"
DESCRIPTION:Sabato 21 agosto presso la Biblioteca Rilliana di Poppi (ore 18) verrà inaugurata la mostra di edizioni cinquecentine su e per Dante “Dantisti del ‘500 nel Castello dei Conti Guidi“. L’esposizione si inserisce nel filone di eventi per la celebrazione del settecentenario dalla morte del Sommo Poeta. \nLa mostra propone un viaggio nella prima tappa dell’esilio di Dante presso il Casentino dove egli trova riparo subito dopo la fuga da Firenze. Questi luoghi sono particolarmente importani nella vita del poeta; infatti\, è tra le mura del Castello dei Conti Guidi che prende forma una parte della Commedia. Lo stesso Dante ricorda il casentinese nel Canto XXX dell’Inferno\, descrivendone le verdi colline e i ruscelli (vv. 64-66). \nAll’inaugurazione saranno presenti il sindaco di Poppi Carlo Toni insieme a Carlo Salvioni (Toscana Terra di Libri Antichi)\, Fausto Rossi (Società Bibliografica Toscana)\, Marisa Boschi (Rotary Fellowship Old Books) e Cinzia Cardinali (Direttrice Archivio di Stato di Siena). \nLa mostra è stata realizzata con il contributo del Comune di Poppi\, dell’associazione I borghi più belli d’Italia\, dell’Archivio di Stato di Siena\, del MiC (Ministero della Cultura)\, della Società Bibliografica Toscana\, del progetto Toscana Terra di Libri Antichi\, del Rotary Distretto 2071 e della Rotary Fellowship Old and Rare Antique Books.\nDal 13 settembre sarà disponibile la mostra digitale online dell’evento. La mostra è stata realizzata in collaborazione con l’Aldus Club (Associazione Internazionale di bibliofilia) e di Adelino Di Marino Old and Rare Books (esperto di stampe e libri antichi\, bibliotecario e bibliofilo)\, oltre agli enti prima citati.\nLa mostra\, in costante aggiornamento\, è accessibile al link https://adelinodimarino.com/DanteAlighieri \nIngresso libero.\nLa mostra osserva l’orario della Biblioteca Rilliana: lunedì-venerdì dalle 9 alle 13; martedì\, giovedì e venerdì dalle 15 alle 18; lunedì\, mercoledì pomeriggio e sabato chiuso. \nScarica la locandina dell’evento
URL:https://www.rotary-old-books.org/event/mostra-dantist/
LOCATION:Biblioteca Rilliana\, Piazza della Repubblica\, 1\, Poppi\, AR\, 52014
CATEGORIES:Event,Home
ATTACH;FMTTYPE=image/jpeg:https://www.rotary-old-books.org/wp-content/uploads/2021/08/dante_poppi-e1630310471570.jpg
END:VEVENT
BEGIN:VEVENT
DTSTART;TZID=Europe/Paris:20210719T210000
DTEND;TZID=Europe/Paris:20210719T210000
DTSTAMP:20260421T194807
CREATED:20210716T081229Z
LAST-MODIFIED:20220426T082255Z
UID:2991-1626728400-1626728400@www.rotary-old-books.org
SUMMARY:Prima assemblea Fellowship of Old and Rare Antique Books and Prints
DESCRIPTION:Il Presidente Paolo Tiezzi Maestri e il Consiglio Direttivo hanno il piacere di invitare soci e amici alla prima assemblea della Fellowship of Old and Rare Antique Books and Prints in programma lunedì 19 luglio 2021. L’evento si terrà a distanza\, a partire dalle ore 21.00. \nÈ possibile scaricare il verbale dell’assemblea in formato PDF nella sezione sottostante; è inoltre fornita la trascrizione dell’incontro tra il Presidente Tiezzi e il professore Cipriani in occasione del conviviale del RC Scandicci (8 giugno 2021). \nPartecipazione gratuita collegandosi al link https://us06web.zoom.us/j/88146766395. \nPer informazioni scrivere a info@rotary-old-books.org \nScarica la locandina dell’eventoScarica il verbaleScarica intervento Tiezzi – Cipriani
URL:https://www.rotary-old-books.org/event/prima-assemblea-fellowship-of-old-and-rare-antique-books-and-prints/
LOCATION:Evento online
CATEGORIES:Event
ATTACH;FMTTYPE=image/jpeg:https://www.rotary-old-books.org/wp-content/uploads/2021/07/prima-assemblea-fellowship.jpg
END:VEVENT
BEGIN:VEVENT
DTSTART;TZID=Europe/Paris:20210508T163000
DTEND;TZID=Europe/Paris:20210508T193000
DTSTAMP:20260421T194807
CREATED:20210505T082850Z
LAST-MODIFIED:20220426T082137Z
UID:2954-1620491400-1620502200@www.rotary-old-books.org
SUMMARY:Mostra "1770-1920: 150 anni di cartografia della Patagonia"
DESCRIPTION:Sabato 8 maggio alle 16.30 presso il Tempio di San Biagio a Montepulciano verrà inaugurata la mostra virtuale “1770-1920: 150 anni di cartografia della Patagonia”\, con la partecipazione di studiosi italiani e cileni che hanno collaborato alla sua realizzazione. L’esposizione fa parte delle iniziative del progetto “Toscana Terra di Libri Antichi” che ha l’obiettivo di dare respiro internazionale alle eccellenze locali legate al libro. \nL’esposizione\, dedicata alle carte geografiche della Patagonia e della Terra del Fuoco\, intende celebrare i cinquecento anni dalla scoperta dello Stretto di Magellano e si inserisce nel ciclo di manifestazioni dell’evento “Ben venga maggio\, il libro e ‘l gonfalon selvaggio” che ha come snodo tematico il libro antico. \nL’iniziativa è a cura della Società Bibliografica Toscana con la stretta collaborazione di molte altre associazioni italiane e internazionali: l’Associazione Pigafetta500\, l’Associazione Italgeo Alberto M. De Agostini\, il Rotary Club Chianciano\, la Sociedad de Bibliófilos Chilenos\, l’Università di Magellano e il Rotary Club Santiago. Sono inoltre presenti alcune autorità quali Michele Angiolini (Sindaco di Montepulciano)\, Sergio Romero Pizarro (Ambasciatore della Repubblica del Cile a Roma)\, Maria Teresa Ricasoli (Console onorario Repubblica del Cile a Firenze) e Franco Brzovic González (Presidente Puerto San Antonio). \nAccesso gratuito previa prenotazione.\nPer partecipare inviare una e-mail all’indirizzo politianusliber@gmail.com\nPer seguire la diretta Facebook clicca qui. \nScarica il programma dell’evento
URL:https://www.rotary-old-books.org/event/mostra-cartografia-patagonia/
LOCATION:Tempio di San Biagio\, Via di S. Biagio\, 20\, San Biagio\, SI\, 53045\, Italia
CATEGORIES:Event
ATTACH;FMTTYPE=image/jpeg:https://www.rotary-old-books.org/wp-content/uploads/2021/07/Carta_Patagonia.jpg
END:VEVENT
BEGIN:VEVENT
DTSTART;TZID=Europe/Paris:20210508T103000
DTEND;TZID=Europe/Paris:20210508T103000
DTSTAMP:20260421T194807
CREATED:20210501T083443Z
LAST-MODIFIED:20210810T151522Z
UID:2941-1620469800-1620469800@www.rotary-old-books.org
SUMMARY:Presentazione Rotary Fellowship of Old and Rare Antique Books and Prints
DESCRIPTION:La Fellowship of Old and Rare Antique Books and Prints alla manifestazione di Montepulciano dedicata al libro antico e raro.L’8 maggio\, in occasione della manifestazione “Ben Venga Maggio\, il libro e ‘l gonfalon selvaggio” dedicata ai libri antichi e rari che si terrà alla Canonica del Tempio di San Biagio di Montepulciano\, viene presentata la Rotary Fellowship of Old and Rare Antique Books and Prints. Interverranno Letizia Cardinale (Distretto 2071)\, Fernando Damiani (Distretto 2071)\, Lucrezia Cozzi (Rotaract Chianciano Chiusi Montepulciano) e Giovanna Mastrotisi (Fellowship of Rotarians who Appreciate Cultural Heritage\, R.C. Orta San Giulio). Seguiranno i ringraziamenti del Presidente della Fellowship of Old and Rare Antique Books and Prints Paolo Tiezzi Maestri. \nIl Circolo rotariano stampe e libri antichi e rari\, fondato a Brescia nel 2005 da un gruppo di rotariani e riconosciuto ufficialmente dal Rotary International nel 2006\, ad oggi è diffuso in oltre 30 paesi del mondo. Il loro motto è “Librorum Amor nos unit” e i loro valori sono lo scambio di informazioni\, la conoscenza del libro e delle stampe antiche. \nDall’ottobre 2020 la Fellowship si è costituita come associazione no-profit di cui è stato eletto nuovo Presidente l’avvocato Paolo Tiezzi Maestri. \nAccesso gratuito previa prenotazione.\nPer partecipare inviare una e-mail all’indirizzo (entro il 6/5) info@rotary-old-books.org\nPer seguire la diretta Facebook clicca qui. \nScarica il programma dell’evento
URL:https://www.rotary-old-books.org/event/presentazione-fellowship-montepulciano/
LOCATION:Canonica del Tempio di San Biagio\, Via di S. Biagio\, 10\, San Biagio\, SI\, 53045\, Italia
CATEGORIES:Event,Home
ATTACH;FMTTYPE=image/jpeg:https://www.rotary-old-books.org/wp-content/uploads/2021/05/presentazione-fellowship-montepulciano-8-maggio-2021-e1628608466456.jpg
END:VEVENT
BEGIN:VEVENT
DTSTART;TZID=Europe/Paris:20210409T090000
DTEND;TZID=Europe/Paris:20210409T130000
DTSTAMP:20260421T194807
CREATED:20210411T211748Z
LAST-MODIFIED:20210726T090516Z
UID:2833-1617958800-1617973200@www.rotary-old-books.org
SUMMARY:Incontro con gli studenti dei licei Poliziani
DESCRIPTION:Una mattinata di studi e una mostra dedicate ai libri di viaggio con la partecipazione della Rotary Fellowship of Old and Rare Books.Nell’ambito del Festival di Pasqua di Montepulciano\, nato nel 2015 da un’idea della cantante lirica Eleonora Contucci\, in programma il 9-10 aprile prossimi\, Rotary International Fellowship of Old and Rare Books\, in collaborazione con Società Bibliografica Toscana\, Biblioteca Archivio Piero Calamandrei\, Licei Poliziani\, promuove una mattinata di studi dedicata a personaggi e testimonianze sui viaggiatori in Toscana. La giornata per la scienza aperta\, dal titolo “Viaggiatori in Toscana. Personaggi e testimonianze”\, si terrà sabato 9 aprile\, presso Palazzo Contucci e a distanza sulla piattaforma dei Licei Poliziani (ore 9-13); a margine dell’incontro\, sarà presentata la mostra “Viaggio tra i libri di viaggio” (Palazzo Colucci). \nIl presidente della Rotary Fellowship e della Società Bibliografica Toscana Paolo Tiezzi Maestri interviene in apertura con una lezione su “Il principe Anatolio Demidoff e il suo viaggio al Mar Nero dell’anno 1837. Riflessioni bibliografiche e storiche su di una importante famiglia russa e la sua permanenza a Firenze”. Alla mattinata di studi partecipano Fiammetta Sabba (Università Alma Mater di Bologna)\, Annantonia Martorano (Università degli Studi di Firenze)\, Cinzia Cardinali (Archivio di Stato di Siena)\, Laura Giambastiani (Università degli Studi di Firenze)\, Silvia Calamandrei (Biblioteca Archivio Piero Calamandrei)\, Elisabetta Angrisano (Università Statale di Milano)\, Biancamaria Brumana (già Università degli Studi di Perugia). \nSu iniziativa dell’Associazione Rotary International Fellowship “Old and Rare Antique Books and Prints”\, nei giorni del Festival sarà distribuito a insegnanti e studenti dei Licei Poliziani l’opuscolo “Cos’è un libro”\, prezioso volumetto sulla storia del libro a stampa a cura del prof. Edoardo Barbieri\, docente di storia del libro e dell’editoria presso l’Università Cattolica di Milano. \nAllegatiScarica il programma dell’eventoAnteprimaCos’è un libro Libri in mostra
URL:https://www.rotary-old-books.org/event/incontro-con-gli-studenti-dei-licei-poliziani/
LOCATION:Evento online
CATEGORIES:Event,Home
ATTACH;FMTTYPE=image/jpeg:https://www.rotary-old-books.org/wp-content/uploads/2021/04/lic-1.jpg
END:VEVENT
BEGIN:VEVENT
DTSTART;TZID=Europe/Paris:20210219T170000
DTEND;TZID=Europe/Paris:20210219T193000
DTSTAMP:20260421T194807
CREATED:20210212T090012Z
LAST-MODIFIED:20210726T091406Z
UID:2940-1613754000-1613763000@www.rotary-old-books.org
SUMMARY:Presentazione volume “Libri antichi tra Savona e Albenga”
DESCRIPTION:Venerdì 19 febbraio\, alle ore 17 verrà presentato in diretta streaming il volume “Libri antichi tra Savona e Albenga. Inventari cinquecenteschi e catalogazione dei fondi di due diocesi liguri” di Romilda Saggini e Paolo Ramagli (Forum\, 2020). Romilda Saggini è paleografa e medievista e si è occupata\, tra le altre cose\, dello studio dei libri antichi; Paolo Ramagli è di formazione archeologo e ricercatore di età medievale\, attualmente si occupa di libri antichi presso l’Archivio Diocesano di Albenga. \nIl lavoro dei due autori si presenta non solo come un insieme di schede descrittive statiche che recensiscono un insieme corposo di libri (33 incunaboli e 1.107 cinquecentine\, per un totale di 1.140 schede) ma anche come insieme vivo di informazioni e dati che studiati possono portare ad interessanti risultati. Il primario obiettivo degli autori infatti è quello di recensire e catalogare il patrimonio librario antico delle diocesi di Savona e Albenga con la prospettiva di favorirne studio\, conoscenza e corretta conservazione. \nNella prima parte del volume è presente un’introduzione al contesto culturale locale cinquecentesco (Romilda Saggini) a cui seguono l’edizione di alcuni inventari cinquecenteschi e le schede descrittive di incunaboli e cinquecentine oggi presenti nelle diverse biblioteche. La ricerca di Saggini e Ramagli ha inoltre portato ad altri due importanti risultati: il ritrovamento del fondo librario del distrutto convento di San Giacomo e lo scioglimento di alcuni segni crittografici del musicista savonese Giò Lorenzo Baldano grazie ad una nota di Luigi Astengo\, di quasi trecento anni più tarda. \nLa presentazione è presieduta dal professore Attilio Bartoli Langeli (Centro di Studi Santa Rosa) ed interverranno l’autore della prefazione Edoardo Barbieri (Università Cattolica di Milano)\, Cesare Scalon (Università di Udine) e Danilo Zardin (Università Cattolica di Milano). Saranno presenti gli autori. \nL’evento è promosso dalla Fondazione Agostino De Mari\, dalle Diocesi di Savona e Albenga\, dal Centro di Ricerca Europeo Libro Editoria Biblioteca\, dalla Società Bibliografica Toscana\, dal Rotary Savona\, dalla Società Savonese di Storia Patria con la collaborazione del Centro Studi Santa Rosa di Viterbo. \nAccesso libero previa prenotazione.\nPer partecipare alla diretta Zoom\, prenotazione con il modulo: https://forms.gle/JKfM9SrfCDkv4C9w7\nDiretta streaming sulla pagina Facebook qui. \nScarica il comunicato stampaScarica la locandina dell’evento
URL:https://www.rotary-old-books.org/event/presentazione-volume-libri-antichi-tra-savona-e-albenga-2/
LOCATION:Evento online
CATEGORIES:Event,Home
ATTACH;FMTTYPE=image/png:https://www.rotary-old-books.org/wp-content/uploads/2021/02/small.png
END:VEVENT
BEGIN:VEVENT
DTSTART;TZID=Europe/Paris:20201216T173000
DTEND;TZID=Europe/Paris:20201216T193000
DTSTAMP:20260421T194807
CREATED:20201215T144625Z
LAST-MODIFIED:20201215T144852Z
UID:2354-1608139800-1608147000@www.rotary-old-books.org
SUMMARY:Presentazione Mostra "Dante a Porta di Sole"
DESCRIPTION:Presentazione a porte chiuse \n1321-2020. 700 anni dalla morte di Dante Alighieri\n \nLa Biblioteca Augusta per celebrare questa ricorrenza propone «Dante a Porta Sole. Dai manoscritti a Dante pop»\, mostra bibliografica dedicata al Sommo Poeta. \nL’iniziativa è sostenuta da Rotary International Fellowship Old and Rare Antique Books and Prints. \n Il percorso espositivo si apre con la sezione Dante Pop\, ovvero Dante recepito e trasformato in tempi moderni in diversi modi.\nPer proseguire con l’esposizione delle copie manoscritte della Commedia risalenti al XIV secolo\, alcune delle quali illustrate da pregevoli miniature\, e delle edizioni a stampa delle opere dantesche e dei relativi commenti\, a partire da incunaboli e cinquecentine\, dal XV al XXI secolo. \nI documenti sono stati selezionati per evidenziare i momenti più significativi della lettura e dell’interpretazione della produzione del Sommo Poeta. \nAi testi posseduti dalla Biblioteca Augusta si affianca altro prestigioso materiale\, proveniente da altre istituzioni come l’Archivio di Stato di Perugia\, Archivio di Stato di Terni\, il Comune di Fossato di Vico\, la Biblioteca delle Nuvole di Perugia\, la Società Bibliografica Toscana e Daniele Lupattelli.\nTra questi\, un’inedita raccolta di frammenti manoscritti della Commedia\, provenienti da diversi Archivi umbri. \nLa mostra fa parte del progetto «Dante in Umbria» che prevede numerose iniziative\, per illustrare sotto diversi aspetti la poliedricità della figura di Dante e della sua opera\, e creare un ampio e diffuso percorso espositivo. \nScarica la locandina dell’evento
URL:https://www.rotary-old-books.org/event/presentazione-mostra-dante-a-porta-di-sole/
LOCATION:Palazzo Conestabile della Staffa\, Piazza Gio. Battista Rossi Scotti\, Perugia\, PG\, 06122\, Italia
CATEGORIES:Event
ATTACH;FMTTYPE=image/jpeg:https://www.rotary-old-books.org/wp-content/uploads/2016/03/dante.jpg
ORGANIZER;CN="COMUNE DI PERUGIA":MAILTO:info.bibliografiche@comune.perugia.it
END:VEVENT
BEGIN:VEVENT
DTSTART;VALUE=DATE:20201216
DTEND;VALUE=DATE:20210601
DTSTAMP:20260421T194807
CREATED:20210726T083227Z
LAST-MODIFIED:20210726T091810Z
UID:2966-1608076800-1622505599@www.rotary-old-books.org
SUMMARY:Mostra “Dante a porta sole. Dai manoscritti a Dante pop”
DESCRIPTION:Un percorso bibliografico attraverso i secoli per (ri)scoprire la figura del Sommo Poeta raccontata e ricostruita grazie ai libri alla Biblioteca comunale Augusta di Perugia.In relazione al progetto “Dante e l’Umbria\, l’Umbria per Dante” che ricorda il legame tra Dante e le terre umbre e ai festeggiamenti per i 700 anni dalla morte del Sommo Poeta la Biblioteca comunale Augusta ospita la mostra bibliografica dal titolo “Dante a porta sole. Dai manoscritti a Dante Pop”\, visitabile dal 16 dicembre 2020 al 30 ottobre 2021 presso il Palazzo Conestabile della Staffa. In occasione del medesimo anniversario sono state organizzate inoltre altre due mostre: “Dante nella biblioteca di Aldo Capitini” presso la Biblioteca San Matteo degli Armeni (fino al 30 ottobre 2021) e “Charun demonio e l’immaginario mitologico dantesco” presso il Museo Archeologico Nazionale dell’Umbria (fino al 30 ottobre 2021). \nIl percorso espositivo della mostra si apre con uno sguardo alla figura di Dante per come viene recepita e rappresentata ai giorni nostri\, ossia il Dante pop. Si prosegue poi con l’esposizione di volumi di grande pregio manoscritti e a stampa\, a partire da incunaboli e cinquecentine (tra cui alcune edizioni di Aldo Manuzio) per arrivare fino al XXI secolo. In questa occasione inoltre sono stati esposti alcuni inediti frammenti manoscritti della Commedia provenienti da diversi Archivi umbri. Il comitato scientifico che ha lavorato per la realizzazione dell’esposizione è costituito dal professore Alessandro Campi (Università degli Studi di Perugia) e dal professore Carlo Pulsoni (Università degli Studi di Perugia)\, che ha per altro contribuito anche alla mostra “Dante nella biblioteca di Aldo Capitini”. \nImportante è stata la collaborazione della Soprintendenza Archivistica e Bibliografica dell’Umbria\, dell’Archivio di Stato di Perugia\, dell’Archivio di Stato di Terni\, del MANU. Museo Archeologico Nazionale dell’Umbria\, della Fondazione CariPerugia Arte\, della Società Bibliografica Toscana e del collezionista Daniele Lupattelli\, che insieme ad altri hanno contribuito a reperire alcuni prestigiosi pezzi e ne hanno concessa l’esposizione.\nLa mostra è stata realizzata con il patrocinio di MiBACT-Comitato Nazionale Celebrazioni 700° anniversario della morte di Dante Alighieri\, della Regione Umbria\, dell’Università degli Studi di Perugia e dell’Università per Stranieri di Perugia. \nL’ingresso è gratuito previa prenotazione obbligatoria all’indirizzo info.bibliografiche@comune.perugia.it oppure al numero 0755.772506 (Biblioteca Augusta).\nL’orario di apertura della mostra è lunedì-venerdì dalle 9 alle 13\, lunedì e mercoledì con apertura pomeridiana dalle 15 alle 18.\nIngresso di 4 persone alla volta con una permanenza di 1 ora. \nScarica la locandina dell’evento
URL:https://www.rotary-old-books.org/event/mostra-dante-a-porta-sole-dai-manoscritti-a-dante-pop/
LOCATION:Palazzo Conestabile della Staffa\, Piazza Gio. Battista Rossi Scotti\, Perugia\, PG\, 06122\, Italia
CATEGORIES:Event,Home
ATTACH;FMTTYPE=image/jpeg:https://www.rotary-old-books.org/wp-content/uploads/2016/03/dante.jpg
END:VEVENT
BEGIN:VEVENT
DTSTART;VALUE=DATE:20200926
DTEND;VALUE=DATE:20201012
DTSTAMP:20260421T194807
CREATED:20210726T093035Z
LAST-MODIFIED:20210726T093035Z
UID:2969-1601078400-1602460799@www.rotary-old-books.org
SUMMARY:Mostra "Come vadia il cielo"
DESCRIPTION:Una mostra che racconta l’astronomia e lo studio del cielo attraverso gli occhi del libro antico. \nL’Archivio di Stato di Siena ospita\, in occasione delle Giornate Europee del Patrimonio 2020\, la mostra di antichi libri di astronomia “Come vadia il cielo” organizzata dalla Società Bibliografica Toscana in occasione del centenario della fondazione della Società Astronomica Italiana (1920-2020). \n“Come si vadia al cielo\, e non come vadia il cielo”: così Galileo difende la propria scienza dalle accuse di essere in contraddizione con le Sacre Scritture. \nAll’esposizione potranno essere ammirate molte cinquecentine di grandissimo pregio\, alcune delle quali provenienti dalla collezione personale di Galileo Galilei stesso. \nSabato 26 settembre\, alle ore 10\, si terrà la presentazione della mostra a cui parteciperanno Cinzia Cardinali\, direttrice dell’Archivio di Stato di Siena\, e Enzo Meccacci\, dell’Accademia Senese degli Intronati\, oltre ad alcuni rotariani tra cui Carlo Salvioni\, Segretario della Rotary Fellowship of Old and Rare Antique Books and Prints. Intervengono inoltre Massimo Mazzoni\, dell’Accademia dei Fisiocritici\, e Manlio Sodi\, della Società Bibliografica Toscana. \nIl catalogo della mostra “Come Vadia il cielo. Mostra bibliografica in omaggio ai 100 anni della Società astronomica Italiana (1920-2020)\, Contributi e catalogo della mostra” è edito dalla Società bibliografica Toscana e dal Comitato per la divulgazione dell’Astronomia\, curato da Massimo Mazzoni e Paolo Tiezzi Maestri. \nIngresso libero (max 15 persone a turno)\, consigliata prenotazione.\nPrenotazione obbligatoria per gruppi con almeno 10 persone.\nPer prenotare scrivere all’indirizzo as-si.comunicazione@beniculturali.it \nAllegatiScarica la locandina dell’evento
URL:https://www.rotary-old-books.org/event/mostra-come-vadia-il-cielo-2/
LOCATION:Archivio di Stato di Siena\, Palazzo Piccolomini d’Aragona\, Banchi di Sotto\, 52\, Siena\, SI\, 53100\, Italia
CATEGORIES:Event,Home
ATTACH;FMTTYPE=image/png:https://www.rotary-old-books.org/wp-content/uploads/2020/09/come-vadia-il-cielo.png
END:VEVENT
END:VCALENDAR